BEGIN:VCALENDAR
VERSION:2.0
PRODID:-//Tukios.com/
BEGIN:VEVENT
UID:186ab59c-b219-45df-b51a-44ff7e5e8c34@www.castillofuneralhome.com
DTSTAMP:20260425T180237Z
DTSTART:20260430T153000Z
DTEND:20260430T163000Z
SUMMARY:Graveside Service
DESCRIPTION:Family and friends will meet at cemetery for graveside 
	service.
URL:https://www.castillofuneralhome.com/obituaries/antonio-gamez-garcia
LOCATION: 3550 Roland Rd  San Antonio TX 78210
GEO:29.3915516;-98.4269879
END:VEVENT
END:VCALENDAR