BEGIN:VCALENDAR
VERSION:2.0
PRODID:-//Tukios.com/
BEGIN:VEVENT
UID:8cfbb474-f400-4487-91af-f3b8d0ff19c4@www.castillofuneralhome.com
DTSTAMP:20260426T000427Z
DTSTART:20260426T210000Z
DTEND:20260427T010000Z
SUMMARY:Visitation
DESCRIPTION:Prayer service to begin at 6pm
URL:https://www.castillofuneralhome.com/obituaries/antonio-soriano
LOCATION: 520 N General McMullen Drive  San Antonio TX 78228
GEO:29.4392921;-98.5524407
END:VEVENT
END:VCALENDAR