BEGIN:VCALENDAR
VERSION:2.0
PRODID:-//Tukios.com/
BEGIN:VEVENT
UID:b85e4b74-042b-43b6-8a9e-00ea7c0cbf5e@www.castillofuneralhome.com
DTSTAMP:20260426T000428Z
DTSTART:20260427T140000Z
DTEND:20260427T150000Z
SUMMARY:Funeral Service
DESCRIPTION:Family and friends to meet at the church for service.
URL:https://www.castillofuneralhome.com/obituaries/antonio-soriano
LOCATION:Westside Fellowship Church 321 N General McMullen Dr  San 
	Antonio TX 78237
GEO:29.4357501;-98.5551061
END:VEVENT
END:VCALENDAR