BEGIN:VCALENDAR
VERSION:2.0
PRODID:-//Tukios.com/
BEGIN:VEVENT
UID:31cbc7b4-5ef0-48a3-92ba-eaae08b0ece6@www.castillofuneralhome.com
DTSTAMP:20260426T000428Z
DTSTART:20260427T161500Z
DTEND:20260427T171500Z
SUMMARY:Graveside Service
DESCRIPTION:Military honors to be rendered at shelter service.
URL:https://www.castillofuneralhome.com/obituaries/antonio-soriano
LOCATION: 1520 Harry Wurzbach Rd  San Antonio TX 78209
GEO:29.4766877;-98.4337683
END:VEVENT
END:VCALENDAR