BEGIN:VCALENDAR
VERSION:2.0
PRODID:-//Tukios.com/
BEGIN:VEVENT
UID:15edcb61-4902-4284-929e-9c79ecafe74d@www.castillofuneralhome.com
DTSTAMP:20260425T184808Z
DTSTART:20260428T210000Z
DTEND:20260429T010000Z
SUMMARY:Viewing
DESCRIPTION:
URL:https://www.castillofuneralhome.com/obituaries/carmelita-robles
LOCATION: 520 N General McMullen Drive  San Antonio TX 78228
GEO:29.4392921;-98.5524407
END:VEVENT
END:VCALENDAR