BEGIN:VCALENDAR
VERSION:2.0
PRODID:-//Tukios.com/
BEGIN:VEVENT
UID:024fb6bb-10ad-4c0c-a8ec-365b96846d59@www.castillofuneralhome.com
DTSTAMP:20260426T000429Z
DTSTART:20260429T210000Z
DTEND:20260430T010000Z
SUMMARY:Visitation
DESCRIPTION:Rosary to begin at 6pm
URL:https://www.castillofuneralhome.com/obituaries/carolina-gil
LOCATION: 520 N General McMullen Drive  San Antonio TX 78228
GEO:29.4392921;-98.5524407
END:VEVENT
END:VCALENDAR