BEGIN:VCALENDAR
VERSION:2.0
PRODID:-//Tukios.com/
BEGIN:VEVENT
UID:b1454b20-a145-453e-a915-9426ec0c0ae0@www.castillofuneralhome.com
DTSTAMP:20260426T000429Z
DTSTART:20260430T150000Z
DTEND:20260430T160000Z
SUMMARY:Funeral Mass
DESCRIPTION:Procession to depart from funeral home at 9:30 a.m.
URL:https://www.castillofuneralhome.com/obituaries/carolina-gil
LOCATION: 747 Southwest 39th Street  San Antonio TX 78237
GEO:29.4195467;-98.5804411
END:VEVENT
END:VCALENDAR