BEGIN:VCALENDAR
VERSION:2.0
PRODID:-//Tukios.com/
BEGIN:VEVENT
UID:668127e6-8103-4801-8058-517baa007156@www.castillofuneralhome.com
DTSTAMP:20260426T000421Z
DTSTART:20260430
SUMMARY:Graveside Service
DESCRIPTION:
URL:https://www.castillofuneralhome.com/obituaries/carolina-gil
LOCATION: 1700 SE Military Dr  San Antonio TX 78214
GEO:29.3511722;-98.4714885
END:VEVENT
END:VCALENDAR