BEGIN:VCALENDAR
VERSION:2.0
PRODID:-//Tukios.com/
BEGIN:VEVENT
UID:36bb3eeb-c242-4513-ab80-743fb5c81d3c@www.castillofuneralhome.com
DTSTAMP:20260424T194915Z
DTSTART:20260430T210000Z
DTEND:20260501T010000Z
SUMMARY:Visitation
DESCRIPTION:
URL:https://www.castillofuneralhome.com/obituaries/elia-flores
LOCATION:Castillo Funeral Home 520 N General McMullen Drive  San Antonio 
	TX 78228
GEO:29.4392921;-98.5524407
END:VEVENT
END:VCALENDAR