BEGIN:VCALENDAR
VERSION:2.0
PRODID:-//Tukios.com/
BEGIN:VEVENT
UID:6d2d0ec7-b2b9-48b8-a12d-bff902b86a9c@www.castillofuneralhome.com
DTSTAMP:20260424T194914Z
DTSTART:20260501T130000Z
DTEND:20260501T150000Z
SUMMARY:Funeral Service
DESCRIPTION:
URL:https://www.castillofuneralhome.com/obituaries/elia-flores
LOCATION:Castillo Funeral Home 520 N General McMullen Drive  San Antonio 
	TX 78228
GEO:29.4392921;-98.5524407
END:VEVENT
END:VCALENDAR