BEGIN:VCALENDAR
VERSION:2.0
PRODID:-//Tukios.com/
BEGIN:VEVENT
UID:144a782c-a5c8-4901-80df-8a7a1d9f2b0c@www.castillofuneralhome.com
DTSTAMP:20260424T194752Z
DTSTART:20260501T153000Z
DTEND:20260501T163000Z
SUMMARY:Funeral Service
DESCRIPTION:
URL:https://www.castillofuneralhome.com/obituaries/elia-flores
LOCATION:St. Dominic's Catholic Church 5919 Ingram Rd.  San Antonio TX 
	78228
GEO:29.46713;-98.600016
END:VEVENT
END:VCALENDAR