BEGIN:VCALENDAR
VERSION:2.0
PRODID:-//Tukios.com/
BEGIN:VEVENT
UID:1fdca236-fae7-44b0-b79f-7eb623d8bd23@www.castillofuneralhome.com
DTSTAMP:20260424T194746Z
DTSTART:20260501T180000Z
DTEND:20260501T182000Z
SUMMARY:Funeral Service
DESCRIPTION:
URL:https://www.castillofuneralhome.com/obituaries/elia-flores
LOCATION:Fort Sam Houston National Cemetery 1520 Harry Wurzbach Rd.  San 
	Antonio TX 78209
GEO:29.4854054;-98.4513272
END:VEVENT
END:VCALENDAR