BEGIN:VCALENDAR
VERSION:2.0
PRODID:-//Tukios.com/
BEGIN:VEVENT
UID:da9612b0-2bce-45ba-99ce-459a6f716d91@www.castillofuneralhome.com
DTSTAMP:20260424T194701Z
DTSTART:20260428T210000Z
DTEND:20260429T010000Z
SUMMARY:Visitation
DESCRIPTION:
URL:https://www.castillofuneralhome.com/obituaries/eulalia-arsate
LOCATION:Castillo Funeral Home 520 N General McMullen Drive  San Antonio 
	TX 78228
GEO:29.4392921;-98.5524407
END:VEVENT
END:VCALENDAR