BEGIN:VCALENDAR
VERSION:2.0
PRODID:-//Tukios.com/
BEGIN:VEVENT
UID:d1b4972f-61dd-41f3-b8f3-0bc5873c6c1a@www.castillofuneralhome.com
DTSTAMP:20260424T194701Z
DTSTART:20260429T130000Z
DTEND:20260429T164500Z
SUMMARY:Funeral Service
DESCRIPTION:
URL:https://www.castillofuneralhome.com/obituaries/eulalia-arsate
LOCATION:Fort Sam Houston National Cemetery 1520 Harry Wurzbach Rd.  San 
	Antonio TX 78209
GEO:29.4854054;-98.4513272
END:VEVENT
END:VCALENDAR