BEGIN:VCALENDAR
VERSION:2.0
PRODID:-//Tukios.com/
BEGIN:VEVENT
UID:97d9e3e3-6b4e-4412-b2fc-6b89edab4bc0@www.castillofuneralhome.com
DTSTAMP:20260424T194752Z
DTSTART:20260427T210000Z
DTEND:20260428T010000Z
SUMMARY:Visitation
DESCRIPTION:
URL:https://www.castillofuneralhome.com/obituaries/guadalupe-martinez
LOCATION:Castillo Funeral Home 520 N General McMullen Drive  San Antonio 
	TX 78228
GEO:29.4392921;-98.5524407
END:VEVENT
END:VCALENDAR