BEGIN:VCALENDAR
VERSION:2.0
PRODID:-//Tukios.com/
BEGIN:VEVENT
UID:25168f6e-6459-41a1-9fd2-a1ef88a0eaf7@www.castillofuneralhome.com
DTSTAMP:20260424T194845Z
DTSTART:20260428T150000Z
DTEND:20260428T160000Z
SUMMARY:Funeral Service
DESCRIPTION:
URL:https://www.castillofuneralhome.com/obituaries/guadalupe-martinez
LOCATION:Our Lady of Good Counsel Catholic Church 1204 Castroville Rd  
	San Antonio TX 78237
GEO:29.4152824;-98.5578102
END:VEVENT
END:VCALENDAR