BEGIN:VCALENDAR
VERSION:2.0
PRODID:-//Tukios.com/
BEGIN:VEVENT
UID:aa5ae1b2-fef4-45f5-a51f-6be97939cfff@www.castillofuneralhome.com
DTSTAMP:20260424T194747Z
DTSTART:20260427T153000Z
DTEND:20260427T163000Z
SUMMARY:Funeral Service
DESCRIPTION:
URL:https://www.castillofuneralhome.com/obituaries/maria-escamilla
LOCATION:Castillo Funeral Home 520 N General McMullen Drive  San Antonio 
	TX 78228
GEO:29.4392921;-98.5524407
END:VEVENT
END:VCALENDAR