BEGIN:VCALENDAR
VERSION:2.0
PRODID:-//Tukios.com/
BEGIN:VEVENT
UID:9c4f3418-76e9-4906-b791-0439567d13c8@www.castillofuneralhome.com
DTSTAMP:20260424T194845Z
DTSTART:20260427T173000Z
DTEND:20260427T183000Z
SUMMARY:Graveside Service
DESCRIPTION:
URL:https://www.castillofuneralhome.com/obituaries/maria-escamilla
LOCATION:San Fernando Cemetery III 1735 Cupples Rd.  San Antonio  78226
GEO:29.3889315;-98.5536256
END:VEVENT
END:VCALENDAR