BEGIN:VCALENDAR
VERSION:2.0
PRODID:-//Tukios.com/
BEGIN:VEVENT
UID:63eeb81b-dad5-4643-bed2-ed9d690407a4@www.castillofuneralhome.com
DTSTAMP:20260424T194931Z
DTSTART:20260506T210000Z
DTEND:20260507T010000Z
SUMMARY:Visitation
DESCRIPTION:
URL:https://www.castillofuneralhome.com/obituaries/virginia-redin
LOCATION:Castillo Funeral Home 520 N General McMullen Drive  San Antonio 
	TX 78228
GEO:29.4392921;-98.5524407
END:VEVENT
END:VCALENDAR