BEGIN:VCALENDAR
VERSION:2.0
PRODID:-//Tukios.com/
BEGIN:VEVENT
UID:84dfa51f-bf23-4da5-9c53-7434fcbc74be@www.castillofuneralhome.com
DTSTAMP:20260424T194747Z
DTSTART:20260507T130000Z
DTEND:20260507T141500Z
SUMMARY:Funeral Service
DESCRIPTION:
URL:https://www.castillofuneralhome.com/obituaries/virginia-redin
LOCATION:Castillo Funeral Home 520 N General McMullen Drive  San Antonio 
	TX 78228
GEO:29.4392921;-98.5524407
END:VEVENT
END:VCALENDAR