BEGIN:VCALENDAR
VERSION:2.0
PRODID:-//Tukios.com/
BEGIN:VEVENT
UID:35bf434d-0fcd-48a1-b75d-9686aeef83a1@www.castillofuneralhome.com
DTSTAMP:20260424T194839Z
DTSTART:20260507T150000Z
DTEND:20260507T160000Z
SUMMARY:Funeral Service
DESCRIPTION:
URL:https://www.castillofuneralhome.com/obituaries/virginia-redin
LOCATION:Christ the King Catholic Church 2610 W Perez  San Antonio TX 
	78207
GEO:29.4345398;-98.5330532
END:VEVENT
END:VCALENDAR