BEGIN:VCALENDAR
VERSION:2.0
PRODID:-//Tukios.com/
BEGIN:VEVENT
UID:8087ed74-6f17-468b-b071-6df92c1fe826@www.castillofuneralhome.com
DTSTAMP:20260424T194931Z
DTSTART:20260507T163000Z
DTEND:20260507T164500Z
SUMMARY:Graveside Service
DESCRIPTION:
URL:https://www.castillofuneralhome.com/obituaries/virginia-redin
LOCATION:San Jose Burial park 8235 Mission Rd  San Antonio TX 78214
GEO:29.3475328;-98.4718894
END:VEVENT
END:VCALENDAR